BEGIN:VCALENDAR
VERSION:2.0
PRODID:-//IN BASSA ROMAGNA - ECPv5.8.2//NONSGML v1.0//EN
CALSCALE:GREGORIAN
METHOD:PUBLISH
X-WR-CALNAME:IN BASSA ROMAGNA
X-ORIGINAL-URL:https://www.inbassaromagna.it
X-WR-CALDESC:Eventi per IN BASSA ROMAGNA
BEGIN:VTIMEZONE
TZID:Europe/Rome
BEGIN:DAYLIGHT
TZOFFSETFROM:+0100
TZOFFSETTO:+0200
TZNAME:CEST
DTSTART:20220327T010000
END:DAYLIGHT
BEGIN:STANDARD
TZOFFSETFROM:+0200
TZOFFSETTO:+0100
TZNAME:CET
DTSTART:20221030T010000
END:STANDARD
END:VTIMEZONE
BEGIN:VEVENT
DTSTART;TZID=Europe/Rome:20221223T153000
DTEND;TZID=Europe/Rome:20221223T170000
DTSTAMP:20260421T140414
CREATED:20221222T100328Z
LAST-MODIFIED:20221222T100328Z
UID:1073-1671809400-1671814800@www.inbassaromagna.it
SUMMARY:Aspettando Babbo Natale
DESCRIPTION:Il 23 dicembre dalle 15.30 alle 17 nella Sala Comunale di Barbiano si terrà Aspettando Babbo Natale\, uno spettacolo natalizio a cura della scuola dell’infanzia “Il Grillo Parlante”. Alle 20 ci sarà l’arrivo di Babbo Natale\, con la collaborazione del Circolo ARCI di Barbiano. \nper conoscere gli altri eventi a Cotignola: Bassa Romagna Mia
URL:https://www.inbassaromagna.it/event/aspettando-babbo-natale/
LOCATION:Cotignola\, Cotignola\, Italy
END:VEVENT
END:VCALENDAR