BEGIN:VCALENDAR
VERSION:2.0
PRODID:-//IN BASSA ROMAGNA - ECPv5.8.2//NONSGML v1.0//EN
CALSCALE:GREGORIAN
METHOD:PUBLISH
X-WR-CALNAME:IN BASSA ROMAGNA
X-ORIGINAL-URL:https://www.inbassaromagna.it
X-WR-CALDESC:Eventi per IN BASSA ROMAGNA
BEGIN:VTIMEZONE
TZID:Europe/Rome
BEGIN:DAYLIGHT
TZOFFSETFROM:+0100
TZOFFSETTO:+0200
TZNAME:CEST
DTSTART:20250330T010000
END:DAYLIGHT
BEGIN:STANDARD
TZOFFSETFROM:+0200
TZOFFSETTO:+0100
TZNAME:CET
DTSTART:20251026T010000
END:STANDARD
END:VTIMEZONE
BEGIN:VEVENT
DTSTART;VALUE=DATE:20250329
DTEND;VALUE=DATE:20250331
DTSTAMP:20260424T130446
CREATED:20250312T083217Z
LAST-MODIFIED:20250312T083217Z
UID:2258-1743206400-1743379199@www.inbassaromagna.it
SUMMARY:Art & Craft Market
DESCRIPTION:La primavera si avvicina e anche la festa della Segavecchia 2025. \nIl team del mercatino ha deciso di organizzare una nuova edizione del “mercatino dei creativi” zona Corso Sforza\, Cotignola. \nE’ richiesto di confermare al propria presenza compilando il form al seguente link: https://marketartigianato.wixsite.com/market
URL:https://www.inbassaromagna.it/event/art-craft-market/
CATEGORIES:Mercatini
ATTACH;FMTTYPE=image/jpeg:https://www.inbassaromagna.it/wp-content/uploads/2025/03/WhatsApp-Image-2025-03-12-at-09.00.22-1.jpeg
END:VEVENT
END:VCALENDAR