BEGIN:VCALENDAR
VERSION:2.0
PRODID:-//IN BASSA ROMAGNA - ECPv5.8.2//NONSGML v1.0//EN
CALSCALE:GREGORIAN
METHOD:PUBLISH
X-WR-CALNAME:IN BASSA ROMAGNA
X-ORIGINAL-URL:https://www.inbassaromagna.it
X-WR-CALDESC:Eventi per IN BASSA ROMAGNA
BEGIN:VTIMEZONE
TZID:Europe/Rome
BEGIN:DAYLIGHT
TZOFFSETFROM:+0100
TZOFFSETTO:+0200
TZNAME:CEST
DTSTART:20230326T010000
END:DAYLIGHT
BEGIN:STANDARD
TZOFFSETFROM:+0200
TZOFFSETTO:+0100
TZNAME:CET
DTSTART:20231029T010000
END:STANDARD
END:VTIMEZONE
BEGIN:VEVENT
DTSTART;TZID=Europe/Rome:20230105T200000
DTEND;TZID=Europe/Rome:20230105T233000
DTSTAMP:20260421T221128
CREATED:20221222T141356Z
LAST-MODIFIED:20221222T141356Z
UID:1120-1672948800-1672961400@www.inbassaromagna.it
SUMMARY:Arriva la Befana
DESCRIPTION:Il 5 gennaio Arriva la Befana\, con due serate dedicate ai bambini nel territorio di Bagnacavallo. \nAlle 20 al Centro civico di Rossetta una serata dedicata ai bambini con giochi\, musica e intrattenimento con protagonista la Befana\, che distribuirà la calza a tutti i bambini presenti. A cura del Consiglio di Zona e della Polisportiva Rossetta ASD. \nAlle 20.30 nell’Area parrocchiale di Villa Prati\, letture animate con l’associazione Comunicando. A cura della parrocchia e dell’associazione L’Incontro.
URL:https://www.inbassaromagna.it/event/arriva-la-befana/
LOCATION:Bagnacavallo\, Bagnacavallo\, Italy
END:VEVENT
END:VCALENDAR