BEGIN:VCALENDAR
VERSION:2.0
PRODID:-//IN BASSA ROMAGNA - ECPv5.8.2//NONSGML v1.0//EN
CALSCALE:GREGORIAN
METHOD:PUBLISH
X-WR-CALNAME:IN BASSA ROMAGNA
X-ORIGINAL-URL:https://www.inbassaromagna.it
X-WR-CALDESC:Eventi per IN BASSA ROMAGNA
BEGIN:VTIMEZONE
TZID:Europe/Rome
BEGIN:DAYLIGHT
TZOFFSETFROM:+0100
TZOFFSETTO:+0200
TZNAME:CEST
DTSTART:20210328T010000
END:DAYLIGHT
BEGIN:STANDARD
TZOFFSETFROM:+0200
TZOFFSETTO:+0100
TZNAME:CET
DTSTART:20211031T010000
END:STANDARD
BEGIN:DAYLIGHT
TZOFFSETFROM:+0100
TZOFFSETTO:+0200
TZNAME:CEST
DTSTART:20220327T010000
END:DAYLIGHT
BEGIN:STANDARD
TZOFFSETFROM:+0200
TZOFFSETTO:+0100
TZNAME:CET
DTSTART:20221030T010000
END:STANDARD
END:VTIMEZONE
BEGIN:VEVENT
DTSTART;TZID=Europe/Rome:20211205T170000
DTEND;TZID=Europe/Rome:20220116T230000
DTSTAMP:20260421T154119
CREATED:20211201T091801Z
LAST-MODIFIED:20211201T092011Z
UID:660-1638723600-1642374000@www.inbassaromagna.it
SUMMARY:ALFONSINE ON ICE - PISTA DI PATTINAGGIO SUL GHIACCIO
DESCRIPTION:PIAZZA GRAMSCI – ALFONSINE \n  \n\nORARI DI APERTURA\n\nDicembre \nSabato e domenica  (4-5\, 11-12\, 18-19 dicembre) – dalle 10 alle 22 \nDal lunedì al venerdì  fino al 23 dicembre – dalle 14 alle 22 \nVenerdì 24 dicembre – dalle 10 alle 22 \nSabato 25 e domenica 26 dicembre – dalle 14 alle 22 \nDa lunedì 27 dicembre a venerdì 31 dicembre – dalle 10 alle 22 \n  \nGennaio \nda sabato 1 a domenica 9 gennaio – dalle 10 alle 22 \nDa lunedì 10 gennaio a domenica 16 gennaio dalle 14 alle 22 \n  \nGli orari possono variare in caso di maltempo \n  \n\nTARIFFE:\n\nIngresso unico: € 5 \n \nEVENTI IN PISTA:\n  \n5 DICEMBRE 2021 \nSpettacolo di pattinaggio sul ghiaccio \, dalle ore 16.30 \nMerenda pomeridiana con zuccherini\, vin brulé e cioccolata calda a cura di E trebb de Passett \nAccensione delle luci natalizie nel centro cittadino \n  \n26 DICEMBRE 2021 \nTutti quelli che si chiamano Stefano o Stefania pattinano gratis! \n  \n6 GENNAIO 2022 \nFesta della Befana! \nDistribuzione di golose calze a cura di Avis Alfonsine \n  \n9 GENNAIO 2022 \nMerenda pomeridiana a cura di Pro Loco Alfonsine
URL:https://www.inbassaromagna.it/event/alfonsine-on-ice-pista-di-pattinaggio-sul-ghiaccio/
LOCATION:Alfonsine\, Alfonsine\, Italy
CATEGORIES:Feste,Spettacoli
ATTACH;FMTTYPE=image/png:https://www.inbassaromagna.it/wp-content/uploads/2021/12/poster-pista-2021_imagelarge.png
END:VEVENT
END:VCALENDAR