BEGIN:VCALENDAR
VERSION:2.0
PRODID:-//IN BASSA ROMAGNA - ECPv5.8.2//NONSGML v1.0//EN
CALSCALE:GREGORIAN
METHOD:PUBLISH
X-WR-CALNAME:IN BASSA ROMAGNA
X-ORIGINAL-URL:https://www.inbassaromagna.it
X-WR-CALDESC:Eventi per IN BASSA ROMAGNA
BEGIN:VTIMEZONE
TZID:Europe/Rome
BEGIN:DAYLIGHT
TZOFFSETFROM:+0100
TZOFFSETTO:+0200
TZNAME:CEST
DTSTART:20220327T010000
END:DAYLIGHT
BEGIN:STANDARD
TZOFFSETFROM:+0200
TZOFFSETTO:+0100
TZNAME:CET
DTSTART:20221030T010000
END:STANDARD
BEGIN:DAYLIGHT
TZOFFSETFROM:+0100
TZOFFSETTO:+0200
TZNAME:CEST
DTSTART:20230326T010000
END:DAYLIGHT
BEGIN:STANDARD
TZOFFSETFROM:+0200
TZOFFSETTO:+0100
TZNAME:CET
DTSTART:20231029T010000
END:STANDARD
END:VTIMEZONE
BEGIN:VEVENT
DTSTART;TZID=Europe/Rome:20221204T160000
DTEND;TZID=Europe/Rome:20230108T220000
DTSTAMP:20260421T201804
CREATED:20221221T110904Z
LAST-MODIFIED:20221221T110904Z
UID:1044-1670169600-1673215200@www.inbassaromagna.it
SUMMARY:Alfonsine on ice | Pista di pattinaggio sul ghiaccio
DESCRIPTION:Dal 4 dicembre 2022 all’8 gennaio 2023 torna Alfonsine on ice\, la pista di pattinaggio sul ghiaccio in Piazza Gramsci. \n  \nOrari di apertura (fino al 21.12) \ndal lunedì al venerdì dalle 15 alle 20.30 \nsabato e domenica dalle 14.30 alle 22 \n  \nOrari di apertura (fino al 22.12) \ntutti i giorni dalle 14.30 alle 22 \n  \nTariffe \n  \n  \n  \n 
URL:https://www.inbassaromagna.it/event/alfonsine-on-ice-pista-di-pattinaggio-sul-ghiaccio-2/
LOCATION:Alfonsine\, Alfonsine\, Italy
END:VEVENT
END:VCALENDAR