BEGIN:VCALENDAR
VERSION:2.0
PRODID:-//IN BASSA ROMAGNA - ECPv5.8.2//NONSGML v1.0//EN
CALSCALE:GREGORIAN
METHOD:PUBLISH
X-WR-CALNAME:IN BASSA ROMAGNA
X-ORIGINAL-URL:https://www.inbassaromagna.it
X-WR-CALDESC:Eventi per IN BASSA ROMAGNA
BEGIN:VTIMEZONE
TZID:Europe/Rome
BEGIN:DAYLIGHT
TZOFFSETFROM:+0100
TZOFFSETTO:+0200
TZNAME:CEST
DTSTART:20220327T010000
END:DAYLIGHT
BEGIN:STANDARD
TZOFFSETFROM:+0200
TZOFFSETTO:+0100
TZNAME:CET
DTSTART:20221030T010000
END:STANDARD
END:VTIMEZONE
BEGIN:VEVENT
DTSTART;TZID=Europe/Rome:20220410T080000
DTEND;TZID=Europe/Rome:20220410T170000
DTSTAMP:20260421T171149
CREATED:20220405T065931Z
LAST-MODIFIED:20220405T065931Z
UID:880-1649577600-1649610000@www.inbassaromagna.it
SUMMARY:Alfonsine - Celebrazioni del 10 Aprile
DESCRIPTION:Domenica 10 aprile 2022 ad Alfonsine ricorre il 77° anniversario della Liberazione dall’occupazione nazifascista e della nascita delle Istituzioni democratiche. \n\nAlla Cerimonia ufficiale del 10 aprile 2022 presenzieranno le più alte Autorità civili e militari della provincia di Ravenna\,un Reparto in armi\, Delegazioni delle Regioni\, Province e Comuni decorati di Emilia-Romagna\, Marche\, Umbria e Toscana. \n\n \nIl 10 aprile 2022 invoca  Pace\, Pace\, Pace! \n\nProgramma\nDomenica 10 aprile 2022 \n\nore 8.30\nIncontro delle Autorità e Delegazioni al Sacrario di Camerlona\nore 8.45\nOnori ai Caduti del G.d.C. “Cremona”\nore 9.00\nCelebrazione S.Messa presso la Chiesa Sacro Cuore\nore 9.30\nFormazione del corteo cittadino in Corso Garibaldi e deposizione di corone al Sacrario dei Caduti Partigiani\nore 10.30\narrivo del corteo cittadino in piazza Gramsci\nOnori ai Caduti –  Interverranno:\n\nRiccardo Graziani\, sindaco di Alfonsine\nBernard Dika\, consigliere Regione Toscana\nDaphne Di Cinto\, regista \n\nore 15.30\nIntitolazione “Parco della Pace” \nAttività per i bambini e ragazzi  dedicate alla pace presso il parco di Corso della Repubblica\n\n        \n\n\n\nIntorno alla Liberazione…  numerose le iniziative organizzate\, oltre che dal Comune di Alfonsine e dal Comitato Unitario Antifascista per la Difesa delle Istituzioni Democratiche\, dalle associazioni del territorio. \n\ndomenica 3  aprile \nIntitolazione S ezione “Terzo Lori e Amos Calderoni”\, Medaglie d’Oro al Valor Militare \nInaugurazione sede rinnovata di ANPI Alfonsine \nSede ANPI Alfonsine\, Via G. Falcone 2 \, ore 9.30 \n\ngiovedì 7 aprile \nCelebrazioni della liberazione di Anita \n  \ngiovedì 7 aprile \nP resentazione del libro “ Il soldato canadese e la bambina di cinque giorni” di Mirna Milandri \nA cura della Cooperativa Mario Angeloni \nPalazzo Marini\, via Roma 10\, ore 20.30 \n  \nsabato 9 aprile \nAspettando il 10 aprile \nCinema teatro Gulliver\, Piazza della Resistenza 2\, ore 20.30 \n  \ndomenica 10 aprile \nPresentazione del libro  “I volontari partigiani nel rinnovato esercito italiano”\,  a cura di Carlo Smuraglia \na cura di Giuseppe Masetti\, direttore dell’Istituto storico della resistenza e dell’età contemporanea in Ravenna e provincia\, con proiezione di filmati dell’epoca sul Gruppo di Combattimento Cremona \nCasa in Comune\, Piazza V. Monti\, ore 16.30 \n  \nlunedì 18 aprile \n38° Gran Premio della Liberazione Città delle Alfonsine \nMaratona competitiva 21 km e passeggiata ludico-motoria di 2\,5 e 10 km \nA cura di ASD Società Podistica Alfonsinese \nPartenza da Piazza Gramsci\, ore 9.30 \n  \nsabato  23 aprile \nCelebrazione del 7 8 ° anniversario dell’eccidio del Palazzone e Zanchetta \n  \n  \nlunedì  25 aprile \nLongastrino – Celebrazioni della Liberazione \n  \nlunedì  25 aprile \n19° Camminata “Nel Senio della memoria” \nPartenza dal Museo della battaglia del Senio\, in mattinata
URL:https://www.inbassaromagna.it/event/alfonsine-celebrazioni-del-10-aprile/
LOCATION:Alfonsine\, Alfonsine\, Italy
CATEGORIES:Feste,Spettacoli
ATTACH;FMTTYPE=image/jpeg:https://www.inbassaromagna.it/wp-content/uploads/2022/04/banner_218x218px_2021orizz_large.jpg
END:VEVENT
END:VCALENDAR