BEGIN:VCALENDAR
VERSION:2.0
PRODID:-//IN BASSA ROMAGNA - ECPv5.8.2//NONSGML v1.0//EN
CALSCALE:GREGORIAN
METHOD:PUBLISH
X-WR-CALNAME:IN BASSA ROMAGNA
X-ORIGINAL-URL:https://www.inbassaromagna.it
X-WR-CALDESC:Eventi per IN BASSA ROMAGNA
BEGIN:VTIMEZONE
TZID:Europe/Rome
BEGIN:DAYLIGHT
TZOFFSETFROM:+0100
TZOFFSETTO:+0200
TZNAME:CEST
DTSTART:20230326T010000
END:DAYLIGHT
BEGIN:STANDARD
TZOFFSETFROM:+0200
TZOFFSETTO:+0100
TZNAME:CET
DTSTART:20231029T010000
END:STANDARD
END:VTIMEZONE
BEGIN:VEVENT
DTSTART;TZID=Europe/Rome:20231217T100000
DTEND;TZID=Europe/Rome:20231217T160000
DTSTAMP:20260421T103844
CREATED:20231129T084923Z
LAST-MODIFIED:20231129T085009Z
UID:1994-1702807200-1702828800@www.inbassaromagna.it
SUMMARY:Accendiamo il Natale - Fusignano è Più
DESCRIPTION:Domenica 17 dicembre  \n\nCorso Emaldi | ore 10\n\nAmici a 4 zampe \n  \n\nPiazza Corelli \n\nore 10 | Spazi espositivi dei commercianti \nore 15 | Chiaramenta e il Gran Maestro\, musica itinerante sui trampoli \n  \nPer saperne di più
URL:https://www.inbassaromagna.it/event/accendiamo-il-natale-fusignano-e-piu/
LOCATION:Fusignano\, Fusignano\, Italy
CATEGORIES:Spettacoli
ATTACH;FMTTYPE=image/jpeg:https://www.inbassaromagna.it/wp-content/uploads/2023/11/400705725_6516969075882_5965092335343094622_n-1.jpg
GEO:44.468347803914;11.958717085951
END:VEVENT
END:VCALENDAR