BEGIN:VCALENDAR
VERSION:2.0
PRODID:-//IN BASSA ROMAGNA - ECPv5.8.2//NONSGML v1.0//EN
CALSCALE:GREGORIAN
METHOD:PUBLISH
X-WR-CALNAME:IN BASSA ROMAGNA
X-ORIGINAL-URL:https://www.inbassaromagna.it
X-WR-CALDESC:Eventi per IN BASSA ROMAGNA
BEGIN:VTIMEZONE
TZID:Europe/Rome
BEGIN:DAYLIGHT
TZOFFSETFROM:+0100
TZOFFSETTO:+0200
TZNAME:CEST
DTSTART:20230326T010000
END:DAYLIGHT
BEGIN:STANDARD
TZOFFSETFROM:+0200
TZOFFSETTO:+0100
TZNAME:CET
DTSTART:20231029T010000
END:STANDARD
END:VTIMEZONE
BEGIN:VEVENT
DTSTART;TZID=Europe/Rome:20230107T160000
DTEND;TZID=Europe/Rome:20230107T233000
DTSTAMP:20260421T185659
CREATED:20221222T141842Z
LAST-MODIFIED:20221222T141842Z
UID:1123-1673107200-1673134200@www.inbassaromagna.it
SUMMARY:A Ruota libera
DESCRIPTION:Il 7 gennaio al Teatro Moderno dalle 16 spettacolo A Ruota libera\, spettacolo per bambini e calza della befana. \nper conoscere tutti gli eventi dell’Epifania: Bassa Romagna Mia
URL:https://www.inbassaromagna.it/event/a-ruota-libera/
LOCATION:Fusignano\, Fusignano\, Italy
GEO:44.468347803914;11.958717085951
END:VEVENT
END:VCALENDAR