BEGIN:VCALENDAR
VERSION:2.0
PRODID:-//IN BASSA ROMAGNA - ECPv5.8.2//NONSGML v1.0//EN
CALSCALE:GREGORIAN
METHOD:PUBLISH
X-WR-CALNAME:IN BASSA ROMAGNA
X-ORIGINAL-URL:https://www.inbassaromagna.it
X-WR-CALDESC:Eventi per IN BASSA ROMAGNA
BEGIN:VTIMEZONE
TZID:Europe/Rome
BEGIN:DAYLIGHT
TZOFFSETFROM:+0100
TZOFFSETTO:+0200
TZNAME:CEST
DTSTART:20230326T010000
END:DAYLIGHT
BEGIN:STANDARD
TZOFFSETFROM:+0200
TZOFFSETTO:+0100
TZNAME:CET
DTSTART:20231029T010000
END:STANDARD
END:VTIMEZONE
BEGIN:VEVENT
DTSTART;TZID=Europe/Rome:20231208T100000
DTEND;TZID=Europe/Rome:20231208T180000
DTSTAMP:20260421T103321
CREATED:20231129T080652Z
LAST-MODIFIED:20231129T080652Z
UID:1985-1702029600-1702058400@www.inbassaromagna.it
SUMMARY:8 dicembre - Fusignano
DESCRIPTION:Venerdì 8 dicembre a Fusignano si terranno varie iniziative per dare il via alle festività natalizie: \n\nPiazza Corelli\n\nalle 10 inaugurazione del nuovo mezzo donato da Auser al Comune di Fusignano e cerimonia di consegna \n alle 16 Canti di Natale\, un concerto con canti natalizi del coro dei Corellini \nalle 16.30 accensione dell’albero di Natale\, con la partecipazione del Town Crier di Biddulph \n  \n\n“Il Granaio”\n\nalle 15 Tombola del riciclo \n  \n\nTeatro Moderno\n\nalle 17 proiezioni per bambini con cortometraggi di animazione a ingresso gratuito \nInoltre\, nei pressi del grande albero di Natale: mini luna park\, set fotografico natalizio\, la cassetta della posta di Babbo Natale\, falò con caldarroste\, dolcetti\, vin brulè e cioccolata calda\, sabadoni romagnoli e il miele dell’apicoltura Sire\, partecipazione della Pro Loco di Novi con un ricco stand gastronomico\, il banco benefico di Graziella e Giordano\, mercato al mattino e negozi aperti tutto il giorno. \nPer saperne di più
URL:https://www.inbassaromagna.it/event/8-dicembre-fusignano/
LOCATION:Fusignano\, Fusignano\, Italy
CATEGORIES:Mercatini
ATTACH;FMTTYPE=image/jpeg:https://www.inbassaromagna.it/wp-content/uploads/2023/11/406065559_752329686934185_3304269563798872410_n.jpg
GEO:44.468347803914;11.958717085951
END:VEVENT
END:VCALENDAR