BEGIN:VCALENDAR
VERSION:2.0
PRODID:-//IN BASSA ROMAGNA - ECPv5.8.2//NONSGML v1.0//EN
CALSCALE:GREGORIAN
METHOD:PUBLISH
X-WR-CALNAME:IN BASSA ROMAGNA
X-ORIGINAL-URL:https://www.inbassaromagna.it
X-WR-CALDESC:Eventi per IN BASSA ROMAGNA
BEGIN:VTIMEZONE
TZID:Europe/Rome
BEGIN:DAYLIGHT
TZOFFSETFROM:+0100
TZOFFSETTO:+0200
TZNAME:CEST
DTSTART:20220327T010000
END:DAYLIGHT
BEGIN:STANDARD
TZOFFSETFROM:+0200
TZOFFSETTO:+0100
TZNAME:CET
DTSTART:20221030T010000
END:STANDARD
END:VTIMEZONE
BEGIN:VEVENT
DTSTART;TZID=Europe/Rome:20221223T180000
DTEND;TZID=Europe/Rome:20221223T230000
DTSTAMP:20260421T190619
CREATED:20221221T102932Z
LAST-MODIFIED:20221221T102932Z
UID:1036-1671818400-1671836400@www.inbassaromagna.it
SUMMARY:5a Camminata dei Babbi Natale
DESCRIPTION:Torna la Camminata dei Babbi Natale\, alla sua quinta edizione. La camminata ludico-motoria avrà luogo il 23 dicembre\, dalle 18 alle 23. \nIl programma prevede il ritrovo in Piazza Gramsci\, con partenza alle 19. Il contributo richiesto è di € 2\,50 e all’arrivo sarà presente un ristoro offerto a tutti i partecipanti. Tutte le società con un minimo di dieci iscritti saranno premiate\, insieme ai primi tre gruppi più numerosi vestiti da Babbo Natale. \nUlteriori informazioni \n347 2384362 | 3391080863 \nritrovo: dalle ore 18\, Piazza Gramsci – 48011 Alfonsine (RA)
URL:https://www.inbassaromagna.it/event/5a-camminata-dei-babbi-natale/
LOCATION:Alfonsine\, Alfonsine\, Italy
END:VEVENT
END:VCALENDAR